PDS_VERSION_ID = PDS3
RECORD_TYPE = FIXED_LENGTH
FILE_RECORDS = 1440
RECORD_BYTES = 5760
^IMAGE = "NLR125AR.IMG"
DATA_SET_ID = "NEAR-A-NLR-6-EROS-MAPS-MODELS-V1.0"
PRODUCT_ID = "NLR125AR.IMG"
SPACECRAFT_NAME = "NEAR EARTH ASTEROID RENDEZVOUS"
INSTRUMENT_ID = NLR
INSTRUMENT_NAME = "NEAR LASER RANGEFINDER"
TARGET_NAME = EROS
START_TIME = 2000-03-05T00:00:04
STOP_TIME = 2001-02-12T19:42:43
PRODUCT_CREATION_TIME = 2001-07-13T12:00:00
PRODUCER_FULL_NAME = "DAVID E. SMITH"
PRODUCER_INSTITUTION_NAME = "GODDARD SPACE FLIGHT CENTER"
DESCRIPTION = "This data product is a shape map of Eros at a resolution of 0.125 by 0.125 degrees, based on altimetry data acquired by the NLR instrument. The NLR profile data are the source for this data set. The map is in the form of a binary table with one row for each 0.125-degree latitude, from 0 to 360 degrees East longitude and 90 to -90 degrees latitude. The binned data include edited NLR observations from 200-km orbits and lower, using the NLR393 orbit solutions produced at NASA-GSFC. A total of approximately 15,889,635 observations are represented, ranging in radius from 3020 to 17666 meters."
OBJECT = IMAGE
  NAME = MEDIAN_RADIUS
  DESCRIPTION = "Median observed planetary radius within the 0.125 by 0.125 degree area. Where no observations lie within the area, an interpolated value is supplied. The number of observations is provided in the 'NLR125AC.IMG' data product."
  LINES = 1440
  LINE_SAMPLES = 2880
  SAMPLE_TYPE = MSB_UNSIGNED_INTEGER
  SAMPLE_BITS = 16
  UNIT = METER
  SCALING_FACTOR = 0.25
  OFFSET = 3000
  MINIMUM = 103
  MAXIMUM = 58624
END_OBJECT = IMAGE
OBJECT = IMAGE_MAP_PROJECTION
  ^DATA_SET_MAP_PROJECTION = "DSMAP.CAT"
  MAP_PROJECTION_TYPE = "SIMPLE CYLINDRICAL"
  A_AXIS_RADIUS = 0.0
  B_AXIS_RADIUS = 0.0
  C_AXIS_RADIUS = 0.0
  FIRST_STANDARD_PARALLEL = "N/A"
  SECOND_STANDARD_PARALLEL = "N/A"
  POSITIVE_LONGITUDE_DIRECTION = "EAST"
  CENTER_LATITUDE = 0.0
  CENTER_LONGITUDE = 180.0
  REFERENCE_LATITUDE = "N/A"
  REFERENCE_LONGITUDE = "N/A"
  LINE_FIRST_PIXEL = 1
  LINE_LAST_PIXEL = 1440
  SAMPLE_FIRST_PIXEL = 1
  SAMPLE_LAST_PIXEL = 2880
  MAP_PROJECTION_ROTATION = 0.0
  MAP_RESOLUTION = 8.0
  MAP_SCALE = "N/A"
  MAXIMUM_LATITUDE = 90.0
  MINIMUM_LATITUDE = -90.0
  WESTERNMOST_LONGITUDE = 0.0
  EASTERNMOST_LONGITUDE = 360.0
  LINE_PROJECTION_OFFSET = 720.5
  SAMPLE_PROJECTION_OFFSET = 1440.5
  COORDINATE_SYSTEM_TYPE = "BODY-FIXED ROTATING"
  COORDINATE_SYSTEM_NAME = "PLANETOCENTRIC"
END_OBJECT = IMAGE_MAP_PROJECTION
END
